BEGIN:VCALENDAR
VERSION:2.0
PRODID:icalendar-ruby
CALSCALE:GREGORIAN
METHOD:PUBLISH
BEGIN:VEVENT
DTSTAMP:20260424T235756Z
UID:509-4276880@stoneumc.org
DTSTART:20261101T140000Z
DTEND:20261101T150000Z
CLASS:PUBLIC
CREATED:20260424T181613
DESCRIPTION:
LAST-MODIFIED:20260424T181613
LOCATION:
SUMMARY:Worship at Stone
URL;VALUE=URI:https://www.stoneumc.org/events/worship-at-stone--509/2026-11
 -01
END:VEVENT
END:VCALENDAR
