BEGIN:VCALENDAR
VERSION:2.0
PRODID:icalendar-ruby
CALSCALE:GREGORIAN
METHOD:PUBLISH
BEGIN:VEVENT
DTSTAMP:20260424T204854Z
UID:509-4274571@stoneumc.org
DTSTART:20261018T130000Z
DTEND:20261018T140000Z
CLASS:PUBLIC
CREATED:20260424T152821
DESCRIPTION:
LAST-MODIFIED:20260424T152821
LOCATION:
SUMMARY:Worship at Stone
URL;VALUE=URI:https://www.stoneumc.org/events/worship-at-stone--509/2026-10
 -18
END:VEVENT
END:VCALENDAR
