BEGIN:VCALENDAR
VERSION:2.0
PRODID:icalendar-ruby
CALSCALE:GREGORIAN
METHOD:PUBLISH
BEGIN:VEVENT
DTSTAMP:20260424T191413Z
UID:509-4272263@stoneumc.org
DTSTART:20261011T130000Z
DTEND:20261011T140000Z
CLASS:PUBLIC
CREATED:20260424T124211
DESCRIPTION:
LAST-MODIFIED:20260424T124211
LOCATION:
SUMMARY:Worship at Stone
URL;VALUE=URI:https://www.stoneumc.org/events/worship-at-stone--509/2026-10
 -11
END:VEVENT
END:VCALENDAR
