BEGIN:VCALENDAR
VERSION:2.0
PRODID:icalendar-ruby
CALSCALE:GREGORIAN
METHOD:PUBLISH
BEGIN:VEVENT
DTSTAMP:20260424T155948Z
UID:509-4269954@stoneumc.org
DTSTART:20260927T130000Z
DTEND:20260927T140000Z
CLASS:PUBLIC
CREATED:20260424T095204
DESCRIPTION:
LAST-MODIFIED:20260424T095204
LOCATION:
SUMMARY:Worship at Stone
URL;VALUE=URI:https://www.stoneumc.org/events/worship-at-stone--509/2026-09
 -27
END:VEVENT
END:VCALENDAR
