BEGIN:VCALENDAR
VERSION:2.0
PRODID:icalendar-ruby
CALSCALE:GREGORIAN
METHOD:PUBLISH
BEGIN:VEVENT
DTSTAMP:20260424T124605Z
UID:509-4267645@stoneumc.org
DTSTART:20260913T130000Z
DTEND:20260913T140000Z
CLASS:PUBLIC
CREATED:20260424T065740
DESCRIPTION:
LAST-MODIFIED:20260424T065740
LOCATION:
SUMMARY:Worship at Stone
URL;VALUE=URI:https://www.stoneumc.org/events/worship-at-stone--509/2026-09
 -13
END:VEVENT
END:VCALENDAR
