BEGIN:VCALENDAR
VERSION:2.0
PRODID:icalendar-ruby
CALSCALE:GREGORIAN
METHOD:PUBLISH
BEGIN:VEVENT
DTSTAMP:20260425T120422Z
UID:451-4281418@stoneumc.org
DTSTART:20260715T190000Z
DTEND:20260715T223000Z
CLASS:PUBLIC
CREATED:20260425T065304
DESCRIPTION:
LAST-MODIFIED:20260425T065304
LOCATION:Kingsley Hall
SUMMARY:Flying Tiger Martial Arts School
URL;VALUE=URI:https://www.stoneumc.org/events/flying-tiger-martial-arts-sch
 ool--451/2026-07-15
ATTACH;FILENAME=flyingtigers.jpg;FMTTYPE=image/jpeg:https://dq5pwpg1q8ru0.c
 loudfront.net/2024/08/01/15/07/09/53e08b94-1a84-4a30-821b-f7469283feae/fly
 ingtigers.jpg
END:VEVENT
END:VCALENDAR
