BEGIN:VCALENDAR
VERSION:2.0
PRODID:icalendar-ruby
CALSCALE:GREGORIAN
METHOD:PUBLISH
BEGIN:VEVENT
DTSTAMP:20260424T084218Z
UID:595-4265439@stoneumc.org
DTSTART:20260917T120000Z
DTEND:20260917T160000Z
CLASS:PUBLIC
CREATED:20260423T212954
DESCRIPTION:Office Administrator Jennifer Royer\n814-724-6736\nchurchoffice
 @stoneumc.org
LAST-MODIFIED:20260423T212954
LOCATION:
SUMMARY:Church Office Hours
URL;VALUE=URI:https://www.stoneumc.org/events/church-office-hours/2026-09-1
 7
END:VEVENT
END:VCALENDAR
