BEGIN:VCALENDAR
VERSION:2.0
PRODID:icalendar-ruby
CALSCALE:GREGORIAN
METHOD:PUBLISH
BEGIN:VEVENT
DTSTAMP:20260424T013036Z
UID:595-4265434@stoneumc.org
DTSTART:20260813T120000Z
DTEND:20260813T160000Z
CLASS:PUBLIC
CREATED:20260423T212954
DESCRIPTION:Office Administrator Jennifer Royer\n814-724-6736\nchurchoffice
 @stoneumc.org
LAST-MODIFIED:20260423T212954
LOCATION:
SUMMARY:Church Office Hours
URL;VALUE=URI:https://www.stoneumc.org/events/church-office-hours/2026-08-1
 3
END:VEVENT
END:VCALENDAR
