BEGIN:VCALENDAR
VERSION:2.0
PRODID:icalendar-ruby
CALSCALE:GREGORIAN
METHOD:PUBLISH
BEGIN:VEVENT
DTSTAMP:20260424T001032Z
UID:595-4263126@stoneumc.org
DTSTART:20260806T120000Z
DTEND:20260806T160000Z
CLASS:PUBLIC
CREATED:20260423T183642
DESCRIPTION:Office Administrator Jennifer Royer\n814-724-6736\nchurchoffice
 @stoneumc.org
LAST-MODIFIED:20260423T183642
LOCATION:
SUMMARY:Church Office Hours
URL;VALUE=URI:https://www.stoneumc.org/events/church-office-hours/2026-08-0
 6
END:VEVENT
END:VCALENDAR
