BEGIN:VCALENDAR
VERSION:2.0
PRODID:icalendar-ruby
CALSCALE:GREGORIAN
METHOD:PUBLISH
BEGIN:VEVENT
DTSTAMP:20260423T214230Z
UID:595-4260817@stoneumc.org
DTSTART:20260723T120000Z
DTEND:20260723T160000Z
CLASS:PUBLIC
CREATED:20260423T154227
DESCRIPTION:Office Administrator Jennifer Royer\n814-724-6736\nchurchoffice
 @stoneumc.org
LAST-MODIFIED:20260423T154227
LOCATION:
SUMMARY:Church Office Hours
URL;VALUE=URI:https://www.stoneumc.org/events/church-office-hours/2026-07-2
 3
END:VEVENT
END:VCALENDAR
