BEGIN:VCALENDAR
VERSION:2.0
PRODID:icalendar-ruby
CALSCALE:GREGORIAN
METHOD:PUBLISH
BEGIN:VEVENT
DTSTAMP:20260423T202137Z
UID:595-4260816@stoneumc.org
DTSTART:20260716T120000Z
DTEND:20260716T160000Z
CLASS:PUBLIC
CREATED:20260423T154227
DESCRIPTION:Office Administrator Jennifer Royer\n814-724-6736\nchurchoffice
 @stoneumc.org
LAST-MODIFIED:20260423T154227
LOCATION:
SUMMARY:Church Office Hours
URL;VALUE=URI:https://www.stoneumc.org/events/church-office-hours/2026-07-1
 6
END:VEVENT
END:VCALENDAR
