BEGIN:VCALENDAR
VERSION:2.0
PRODID:icalendar-ruby
CALSCALE:GREGORIAN
METHOD:PUBLISH
BEGIN:VEVENT
DTSTAMP:20260423T142646Z
UID:595-4256199@stoneumc.org
DTSTART:20260618T120000Z
DTEND:20260618T160000Z
CLASS:PUBLIC
CREATED:20260423T095210
DESCRIPTION:Office Administrator Jennifer Royer\n814-724-6736\nchurchoffice
 @stoneumc.org
LAST-MODIFIED:20260423T095210
LOCATION:
SUMMARY:Church Office Hours
URL;VALUE=URI:https://www.stoneumc.org/events/church-office-hours/2026-06-1
 8
END:VEVENT
END:VCALENDAR
