BEGIN:VCALENDAR
VERSION:2.0
PRODID:icalendar-ruby
CALSCALE:GREGORIAN
METHOD:PUBLISH
BEGIN:VEVENT
DTSTAMP:20260423T112623Z
UID:595-4253891@stoneumc.org
DTSTART:20260604T120000Z
DTEND:20260604T160000Z
CLASS:PUBLIC
CREATED:20260423T065705
DESCRIPTION:Office Administrator Jennifer Royer\n814-724-6736\nchurchoffice
 @stoneumc.org
LAST-MODIFIED:20260423T065705
LOCATION:
SUMMARY:Church Office Hours
URL;VALUE=URI:https://www.stoneumc.org/events/church-office-hours/2026-06-0
 4
END:VEVENT
END:VCALENDAR
