BEGIN:VCALENDAR
VERSION:2.0
PRODID:icalendar-ruby
CALSCALE:GREGORIAN
METHOD:PUBLISH
BEGIN:VEVENT
DTSTAMP:20260423T083519Z
UID:595-4251583@stoneumc.org
DTSTART:20260521T120000Z
DTEND:20260521T160000Z
CLASS:PUBLIC
CREATED:20260422T212754
DESCRIPTION:Office Administrator Jennifer Royer\n814-724-6736\nchurchoffice
 @stoneumc.org
LAST-MODIFIED:20260422T212754
LOCATION:
SUMMARY:Church Office Hours
URL;VALUE=URI:https://www.stoneumc.org/events/church-office-hours/2026-05-2
 1
END:VEVENT
END:VCALENDAR
